BEGIN:VCALENDAR
VERSION:2.0
PRODID:-//ChamberMaster//Event Calendar 2.0//EN
METHOD:PUBLISH
X-PUBLISHED-TTL:P3D
REFRESH-INTERVAL:P3D
CALSCALE:GREGORIAN
BEGIN:VEVENT
DTSTART;VALUE=DATE:20110424
DTEND;VALUE=DATE:20110425
TRANSP:TRANSPARENT
X-MICROSOFT-CDO-ALLDAYEVENT:TRUE
SUMMARY:Easter Buffet
DESCRIPTION:Easter Sunday Buffet\n\n\n\nApril 24th from 11:00am  1:30pm\n\nAdults $15.95 ~ Under 12 $5.95\n\n\n\nBaked Chicken\, Fried Chicken\, Ham\, Turkey\, Dressing\, Mashed & Scalloped Potatoes & Gravy\, Corn Souffle'\, Collard Greens\, Saute'd Squash & Zucchini\, Sweet Potato Casserole\, Macaroni & Cheese\, Steamed Broccoli\, Butter Beans\, Rolls & Cornbread\, Tossed Salad\, & Fruit.\n\n\n\nReservations are Required. Call 668.1308 to make your Reservation today.\n\n\n\nTime slots are filling up fast.
X-ALT-DESC;FMTTYPE=text/html:Easter Sunday Buffet<br />\n<br />\nApril 24th from 11:00am&nbsp\; 1:30pm<br />\nAdults $15.95 ~ Under 12 $5.95<br />\n<br />\nBaked Chicken\, Fried Chicken\, Ham\, Turkey\, Dressing\, Mashed &amp\; Scalloped Potatoes &amp\; Gravy\, Corn Souffle&#39\;\, Collard Greens\, Saute&#39\;d Squash &amp\; Zucchini\, Sweet Potato Casserole\, Macaroni &amp\; Cheese\, Steamed Broccoli\, Butter Beans\, Rolls &amp\; Cornbread\, Tossed Salad\, &amp\; Fruit.<br />\n<br />\nReservations are Required. Call 668.1308 to make your Reservation today.<br />\n<br />\nTime slots are filling up fast. 
LOCATION:
UID:e.145.3381
SEQUENCE:3
DTSTAMP:20260426T033531Z
URL:https://business.shelbychamber.org/events/details/easter-buffet-04-24-2011-3381
END:VEVENT

END:VCALENDAR
