BEGIN:VCALENDAR
VERSION:2.0
PRODID:-//ChamberMaster//Event Calendar 2.0//EN
METHOD:PUBLISH
X-PUBLISHED-TTL:P3D
REFRESH-INTERVAL:P3D
CALSCALE:GREGORIAN
BEGIN:VEVENT
DTSTART:20160326T143000Z
DTEND:20160326T153000Z
X-MICROSOFT-CDO-ALLDAYEVENT:FALSE
SUMMARY:Easter Egg Hunt
DESCRIPTION:Bring your Easter basket and hop on over to the library to join us for our annual Easter Egg Hunt! Babies up to 3 years old will hunt eggs in the Meeting Room beginning at 9:30. Kids 4 and up will hunt eggs in the Children's Department beginning at 10:00. Join us for refreshments and special prizes! No Registration is required.
X-ALT-DESC;FMTTYPE=text/html:<span style="font-family:calibri light\,sans-serif">Bring your Easter basket and hop on over to the library to join us for our annual Easter Egg Hunt! Babies up to 3 years old will hunt eggs in the Meeting Room beginning at 9:30. Kids 4 and up will hunt eggs in the Children&rsquo\;s Department beginning at 10:00. Join us for refreshments and special prizes! No Registration is required.&nbsp\;</span>
LOCATION:North Shelby Library
UID:e.145.8365
SEQUENCE:3
DTSTAMP:20260422T074614Z
URL:https://business.shelbychamber.org/events/details/easter-egg-hunt-03-26-2016-8365
END:VEVENT

END:VCALENDAR
