BEGIN:VCALENDAR
VERSION:2.0
PRODID:-//ChamberMaster//Event Calendar 2.0//EN
METHOD:PUBLISH
X-PUBLISHED-TTL:P3D
REFRESH-INTERVAL:P3D
CALSCALE:GREGORIAN
BEGIN:VEVENT
DTSTART:20150404T153000Z
DTEND:20150405T043000Z
X-MICROSOFT-CDO-ALLDAYEVENT:FALSE
SUMMARY:Easter Egg Hunt
DESCRIPTION:Bring your Easter basket and hop on over to the library to join us for our annual Easter Egg Hunt! Kids 4 and up will hunt eggs in the Children's Department beginning at 10:30. Babies up to 3 year olds will hunt eggs in the Meeting Room beginning at 11:00. We will have refreshments\, special prizes\, and a visit from a very furry guest! No Registration is required.
X-ALT-DESC;FMTTYPE=text/html:Bring your Easter basket and hop on over to the library to join us for our annual Easter Egg Hunt! Kids 4 and up will hunt eggs in the Children&rsquo\;s Department beginning at 10:30. Babies up to 3 year olds will hunt eggs in the Meeting Room beginning at 11:00. We will have refreshments\, special prizes\, and a visit from a very furry guest! No Registration is required.&nbsp\;
LOCATION:North Shelby Library
UID:e.145.7606
SEQUENCE:3
DTSTAMP:20260423T002754Z
URL:https://business.shelbychamber.org/events/details/easter-egg-hunt-04-04-2015-7606
END:VEVENT

END:VCALENDAR
