BEGIN:VCALENDAR
VERSION:2.0
PRODID:-//ChamberMaster//Event Calendar 2.0//EN
METHOD:PUBLISH
X-PUBLISHED-TTL:P3D
REFRESH-INTERVAL:P3D
CALSCALE:GREGORIAN
BEGIN:VEVENT
DTSTART:20151115T190000Z
DTEND:20151115T220000Z
X-MICROSOFT-CDO-ALLDAYEVENT:FALSE
SUMMARY:Easybridge classes
DESCRIPTION:Beginning bridge lessons using the ACBL Easybridge format.
X-ALT-DESC;FMTTYPE=text/html:Beginning bridge lessons using the ACBL Easybridge format.
LOCATION:Birmingham Duplicate Bridge Club 144 Business Center Drive Birmingham AL 35244
UID:e.145.7746
SEQUENCE:3
DTSTAMP:20260422T135959Z
URL:https://business.shelbychamber.org/events/details/easybridge-classes-11-15-2015-7746
END:VEVENT

END:VCALENDAR
