BEGIN:VCALENDAR
VERSION:2.0
PRODID:-//ChamberMaster//Event Calendar 2.0//EN
METHOD:PUBLISH
X-PUBLISHED-TTL:P3D
REFRESH-INTERVAL:P3D
CALSCALE:GREGORIAN
BEGIN:VEVENT
DTSTART:20111018T140000Z
DTEND:20111018T170000Z
X-MICROSOFT-CDO-ALLDAYEVENT:FALSE
SUMMARY:Effective Time Management at Southeast Institute for Higher Learning\, LLC
DESCRIPTION:Effective Time Management\n\n\n\nIndividuals taking this course will have the opportunity to learn to value time and how to categorize and concentrate efforts on the most important priorities each day in order to use time effectively and efficiently.
X-ALT-DESC;FMTTYPE=text/html:Effective Time Management<br />\n<br />\nIndividuals taking this course will have the opportunity to learn to value time and how to categorize and concentrate efforts on the most important priorities each day in order to use time effectively and efficiently.
LOCATION:University of Montevallo Department of Continuing Education 2790 Pelham Parkway Room 105 Pelham\, AL 35124
UID:e.145.3537
SEQUENCE:3
DTSTAMP:20260425T200152Z
URL:https://business.shelbychamber.org/events/details/effective-time-management-at-southeast-institute-for-higher-learning-llc-10-18-2011-3537
END:VEVENT

END:VCALENDAR
