BEGIN:VCALENDAR
VERSION:2.0
PRODID:-//ChamberMaster//Event Calendar 2.0//EN
METHOD:PUBLISH
X-PUBLISHED-TTL:P3D
REFRESH-INTERVAL:P3D
CALSCALE:GREGORIAN
BEGIN:VEVENT
DTSTART:20150331T123000Z
DTEND:20150331T140000Z
X-MICROSOFT-CDO-ALLDAYEVENT:FALSE
SUMMARY:"Eggs & Issues Breakfast" to Feature Washington Update from Congressman Gary Palmer
DESCRIPTION:"Eggs & Issues Breakfast" to Feature Washington Update from Congressman Gary Palmer\n\n\n\nGary Palmer\, the new Congressman for Alabama's 6th Congressional District\, was elected this past November and sworn into office in January. During his first term in Congress he will serve as a member of these three Congressional Committees: Oversight & Government Reform\, Budget and Space\, Science & Technology.  He was also appointed as the representative for Alabama\, Georgia and South Carolina to the Republican Policy Committee.\n\n\n\nOn March 31\, Congressman Palmer will join us for an "Eggs & Issues" Breakfast event from 7:30AM-9:00AM at the Birmingham Marriott Hotel and provide a Washington Update. Time permitting we will open the floor to questions from those attending.\n\n\n\nThis event\, sponsored by Alabama Power Company\, is co-hosted by the Greater Shelby County\, Calera\, Hoover\, Mountain Brook and Vestavia Hills chambers of commerce.\n\n\n\nThe investment for a full breakfast is $15 per person for Chamber members and $25 for "Future" members.  ShelbyOne investors receive one complimentary registration.  Registration is required by March 30\, so please contact the Chamber via e-mail at info@shelbychamber.org\, by phone at 663-4542 or register online registration.
X-ALT-DESC;FMTTYPE=text/html:<br />\n<strong>&ldquo\;Eggs &amp\; Issues Breakfast&rdquo\; to Feature Washington Update from Congressman Gary Palmer</strong><br />\n<br />\nGary Palmer\, the new Congressman for Alabama&rsquo\;s 6th Congressional District\, was elected this past November and sworn into office in January. During his first term in Congress he will serve as a member of these three Congressional Committees: Oversight &amp\; Government Reform\, Budget and Space\, Science &amp\; Technology.&nbsp\; He was also appointed as the representative for Alabama\, Georgia and South Carolina to the Republican Policy Committee.<br />\n<br />\nOn March 31\, Congressman Palmer will join us for an &ldquo\;Eggs &amp\; Issues&rdquo\; Breakfast event from 7:30AM-9:00AM at the Birmingham Marriott Hotel and provide a Washington Update. Time permitting we will open the floor to questions from those attending.<br />\n<br />\nThis event\, sponsored by Alabama Power Company\, is co-hosted by the Greater Shelby County\, Calera\, Hoover\, Mountain Brook and Vestavia Hills chambers of commerce.<br />\n<br />\nThe investment for a full breakfast is $15 per person for Chamber members and $25 for &ldquo\;Future&rdquo\; members.&nbsp\; ShelbyOne investors receive one complimentary registration.&nbsp\; Registration is required by March 30\, so please contact the Chamber via e-mail at info@shelbychamber.org\, by phone at 663-4542 or register online registration.
LOCATION:Birmingham Marriott Hotel 3590 Grandview Parkway Birmingham\, AL 35243 (205) 968-3775
UID:e.145.7192
SEQUENCE:3
DTSTAMP:20260423T020422Z
URL:https://business.shelbychamber.org/events/details/eggs-issues-breakfast-to-feature-washington-update-from-congressman-gary-palmer-03-31-2015-7192
END:VEVENT

END:VCALENDAR
