BEGIN:VCALENDAR
VERSION:2.0
PRODID:-//ChamberMaster//Event Calendar 2.0//EN
METHOD:PUBLISH
X-PUBLISHED-TTL:P3D
REFRESH-INTERVAL:P3D
CALSCALE:GREGORIAN
BEGIN:VEVENT
DTSTART:20150811T121500Z
DTEND:20150811T133000Z
X-MICROSOFT-CDO-ALLDAYEVENT:FALSE
SUMMARY:"Eggs & Issues Breakfast" to Feature Washington Update from The Honorable Jeff Sessions
DESCRIPTION:"EGGS & ISSUES BREAKFAST"\n\nFEATURING A WASHINGTON UPDATE WITH THE\n\nHONORABLE JEFF SESSIONS\n\n(U.S. Senator\, Alabama)\n\n \n\nTuesday\, August 11\n\n@\n\nPelham Civic Complex & Ice Arena\n\n(500 Amphitheater Road\, Pelham\, AL 35124)\n\n7:15AM - 8:30AM\n\n \n\nJeff Sessions\, United States Senator for Alabama\, was overwhelmingly elected to a fourth term in November 2014. During the 114th Congress\, Senator Sessions is serving on the following Senate committees: "Armed Services"\, "Budget"\, "Environment & Public Works" and "Judiciary".  He is also Chair of two key Senate Sub-Committees: "Strategic Forces" and "Immigration and the National Interest".\n\n \n\nSenator Sessions will join us to provide a Washington update for attendees. Time permitting we will open the floor to questions from those attending.\n\n \n\nThis event is co-hosted by the collaborative partnership between the Calera\, Greater Shelby County and Montevallo chambers of commerce.\n\n\n\nThe investment\, which includes breakfast\, is $15 per person for Chamber members and $25 for "Future" members.\n\n\n\nGreater Shelby County Chamber of Commerce ShelbyOne investors receive one complimentary registration. Contact the Chamber.\n\n\n\nRegistration is requested by Monday\, August 10 to ensure seating\, so please contact the Chamber via e-mail at info@shelbychamber.org\, by phone at 663-4542 or use register online above.
X-ALT-DESC;FMTTYPE=text/html:<div style="text-align: center\;"><span style="font-size:12px\;"><span style="font-family: verdana\;"><span style="font-size:14px\;"><strong><em>&quot\;EGGS &amp\; ISSUES BREAKFAST&quot\;</em></strong><br />\n<strong>FEATURING A </strong><strong>WASHINGTON UPDATE WITH</strong> <strong>THE<br />\nHONORABLE</strong><strong> JEFF SESSIONS</strong><br />\n<strong><em>(U.S. Senator\, Alabama)</em></strong></span></span></span></div>\n\n<div><span style="font-size:12px\;"><span style="font-family: verdana\;">&nbsp\;</span></span></div>\n\n<div style="text-align: center\;"><strong>Tuesday\, August 11</strong><br />\n<strong>@</strong><br />\n<strong>Pelham Civic Complex &amp\; Ice Arena</strong><br />\n<strong><em>(500 Amphitheater Road\, Pelham\, AL 35124)</em></strong><br />\n<strong>7:15AM - 8:30AM</strong></div>\n\n<div><span style="font-size:12px\;"><span style="font-family: verdana\;">&nbsp\;<br />\nJeff Sessions\, United States Senator for Alabama\, was overwhelmingly elected to a fourth term in November 2014. During the 114<sup>th</sup> Congress\, Senator Sessions is serving on the following Senate committees: <em>&quot\;Armed Services&quot\;\, &quot\;Budget</em>&quot\;\, <em>&quot\;Environment &amp\; Public Works</em>&quot\; and <em>&quot\;Judiciary</em>&quot\;.&nbsp\; He is also Chair of two key Senate Sub-Committees: <em>&quot\;Strategic Forces</em>&quot\; and &quot\;<em>Immigration and the National Interest</em>&quot\;.<br />\n&nbsp\;<br />\nSenator Sessions will join us to provide a Washington update for attendees. Time permitting we will open the floor to questions from those attending.<br />\n&nbsp\;<br />\nThis event is co-hosted by the collaborative partnership between the Calera\, Greater Shelby County and Montevallo chambers of commerce.<br />\n<br />\nThe investment\, which includes breakfast\, is $15 per person for Chamber members and $25 for &ldquo\;Future&rdquo\; members.<br />\n<br />\nGreater Shelby County Chamber of Commerce <em><strong>ShelbyOne</strong></em> investors receive one complimentary registration. Contact the Chamber.<br />\n<br />\nRegistration is requested by Monday\, August 10 to ensure seating\, so please contact the Chamber via e-mail at info@shelbychamber.org\, by phone at 663-4542 or use register online above.</span></span></div>\n
LOCATION:Pelham Civic Complex & Ice Arena 500 Amphitheater Drive\, Pelham
UID:e.145.7757
SEQUENCE:3
DTSTAMP:20260422T195620Z
URL:https://business.shelbychamber.org/events/details/eggs-issues-breakfast-to-feature-washington-update-from-the-honorable-jeff-sessions-08-11-2015-7757
END:VEVENT

END:VCALENDAR
