BEGIN:VCALENDAR
VERSION:2.0
PRODID:-//ChamberMaster//Event Calendar 2.0//EN
METHOD:PUBLISH
X-PUBLISHED-TTL:P3D
REFRESH-INTERVAL:P3D
CALSCALE:GREGORIAN
BEGIN:VEVENT
DTSTART:20141201T140000Z
DTEND:20141205T230000Z
X-MICROSOFT-CDO-ALLDAYEVENT:FALSE
SUMMARY:Electrical Motor Controls with Troubleshooting Training
DESCRIPTION:Alabama Technology Network (ATN)  is offering a five-day (40-hour) course in Electrical Motor Controls with Troubleshooting. The class will beign with the basics of electricity incorporating updates of NFPA 70E Electrical Arc Flash Safety then progress into motor control fundamentals including troubleshooting.The classroom lecture is interlaced with practical hands-on exercises where faults are introduced and the participant must diagnose the issue correctly in order to proceed. The faults can also be modified by the instructor so as to introduce an element of surprise.\n\n\n\nPlease visit our website www.atn.org for more details. Seating is limited so register today!
X-ALT-DESC;FMTTYPE=text/html:<strong>Alabama Technology Network</strong> (ATN) &nbsp\;is offering a five-day (40-hour) course in <u>Electrical Motor Controls with Troubleshooting</u>. The class will beign with the basics of electricity incorporating updates of <u>NFPA 70E Electrical Arc Flash Safety</u> then progress into motor control fundamentals including troubleshooting.The classroom lecture is interlaced with practical hands-on exercises where faults are introduced and the participant must diagnose the issue correctly in order to proceed. The faults can also be modified by the instructor so as to introduce an element of surprise.<br />\n<br />\nPlease visit our website www.atn.org for more details. Seating is limited so register today!
LOCATION:Jefferson State Community College\, Jefferson Campus/MC 230\, 2601 Carson Road\, Birmingham\, AL 35215
UID:e.145.6219
SEQUENCE:3
DTSTAMP:20260423T063014Z
URL:https://business.shelbychamber.org/events/details/electrical-motor-controls-with-troubleshooting-training-12-01-2014-6219
END:VEVENT

END:VCALENDAR
