BEGIN:VCALENDAR
VERSION:2.0
PRODID:-//ChamberMaster//Event Calendar 2.0//EN
METHOD:PUBLISH
X-PUBLISHED-TTL:P3D
REFRESH-INTERVAL:P3D
CALSCALE:GREGORIAN
BEGIN:VEVENT
DTSTART:20130623T000000Z
DTEND:20130623T020000Z
X-MICROSOFT-CDO-ALLDAYEVENT:FALSE
SUMMARY:Eleemosynary - Shelby County Arts Council presents:
DESCRIPTION:Eleemosynary - By South City Theatre\n\n	     June 22\, Saturday 7:00 PM\n\n	     Tickets $15.00 - avalible online\n\n	     Shelby County Arts Performance Space\n\n	     104 Mildred Street\n\n	     Columbiana\n\n	     205-669-0044\n\n	 \n\n	     Eleemosynary - Presented by South City Theatre. A sensitive and masterful play by award winning playwright     Lee Blessing. Staged with utmost simplicity\, using platforms and a few props\, the play examines the subtle relationship between  three remarkable women\;  a young girl\, her mother\, and her grandmother. A talented production presented  in the new Shelby County Arts Performance Space in downtown Columbiana\, next to the Shelby County Arts Council Gallery.
X-ALT-DESC;FMTTYPE=text/html:<p class="p1">\n	&nbsp\;</p>\n<p class="p2">\n	&nbsp\;&nbsp\; &nbsp\; Eleemosynary - By South City Theatre</p>\n<p class="p2">\n	&nbsp\;&nbsp\; &nbsp\; June 22\, Saturday 7:00 PM</p>\n<p class="p2">\n	&nbsp\;&nbsp\; &nbsp\; Tickets $15.00 - avalible online</p>\n<p class="p2">\n	&nbsp\;&nbsp\; &nbsp\; Shelby County Arts Performance Space</p>\n<p class="p2">\n	&nbsp\;&nbsp\; &nbsp\; 104 Mildred Street</p>\n<p class="p2">\n	&nbsp\;&nbsp\; &nbsp\; Columbiana</p>\n<p class="p2">\n	&nbsp\;&nbsp\; &nbsp\; 205-669-0044</p>\n<p class="p1">\n	&nbsp\;</p>\n<p class="p2">\n	&nbsp\;&nbsp\; &nbsp\; Eleemosynary - Presented by South City Theatre. A sensitive and masterful play by award winning playwright &nbsp\; &nbsp\; Lee Blessing. Staged with utmost simplicity\, using&nbsp\;platforms and a few props\, the play examines the subtle relationship between &nbsp\;three remarkable women\;&nbsp\; a young girl\, her mother\, and her grandmother. A talented production presented&nbsp\; in the new Shelby County&nbsp\;Arts Performance Space in downtown Columbiana\, next to the Shelby County Arts Council Gallery.</p>\n<p class="p1">\n	&nbsp\; &nbsp\; &nbsp\;</p>\n
LOCATION:Shelby County Art Performance Space 102 Mildred Street\, Coulumbiana\, AL 35051
UID:e.145.4567
SEQUENCE:3
DTSTAMP:20260424T102931Z
URL:https://business.shelbychamber.org/events/details/eleemosynary-shelby-county-arts-council-presents-06-22-2013-4567
END:VEVENT

END:VCALENDAR
