BEGIN:VCALENDAR
VERSION:2.0
PRODID:-//ChamberMaster//Event Calendar 2.0//EN
METHOD:PUBLISH
X-PUBLISHED-TTL:P3D
REFRESH-INTERVAL:P3D
CALSCALE:GREGORIAN
BEGIN:VEVENT
DTSTART:20160320T000000Z
DTEND:20160320T030000Z
X-MICROSOFT-CDO-ALLDAYEVENT:FALSE
SUMMARY:Elnora Spencer Revue: Etta James to Dinah Washington
DESCRIPTION:7:30pm\, Doors Open at 7:00pm \n\n$20 Ticket includes complimentary beverage reception.  \n\nSuperb vocals\, fantastic showmanship Alabama Blues Hall of Fame Inductee Elnora Spencer will be a pure musical delight!
X-ALT-DESC;FMTTYPE=text/html:<span style="font-size:medium"><span style="font-family:arial">7:30pm\, Doors Open at 7:00pm</span></span>&nbsp\;<br />\n<span style="font-size:medium"><span style="font-family:arial">$20 Ticket includes complimentary beverage reception.&nbsp\;</span></span>&nbsp\;<br />\n<span style="font-size:medium"><span style="font-family:arial">Superb vocals\, fantastic showmanship&hellip\;Alabama Blues Hall of Fame Inductee Elnora Spencer will be a pure musical delight!</span></span>
LOCATION:Shelby County Arts Council
UID:e.145.9401
SEQUENCE:3
DTSTAMP:20260422T075245Z
URL:https://business.shelbychamber.org/events/details/elnora-spencer-revue-etta-james-to-dinah-washington-03-19-2016-9401
END:VEVENT

END:VCALENDAR
