BEGIN:VCALENDAR
VERSION:2.0
PRODID:-//ChamberMaster//Event Calendar 2.0//EN
METHOD:PUBLISH
X-PUBLISHED-TTL:P3D
REFRESH-INTERVAL:P3D
CALSCALE:GREGORIAN
BEGIN:VEVENT
DTSTART;VALUE=DATE:20151201
DTEND;VALUE=DATE:20151224
TRANSP:TRANSPARENT
X-MICROSOFT-CDO-ALLDAYEVENT:TRUE
SUMMARY:Elves in the Shelves
DESCRIPTION:The Library is being overrun by elves and we will be giving some away. To win an elf\, stop by the library or check the library's Facebook page each Monday to see clues to help you figure out which book the elves have been reading over the weekend. Submit a guess in person or on the Facebook page. Winners will be drawn each Tuesday morning.
X-ALT-DESC;FMTTYPE=text/html:The Library is being overrun by elves and we will be giving some away. To win an elf\, stop by the library or check the library&rsquo\;s Facebook page each Monday to see clues to help you figure out which book the elves have been reading over the weekend. Submit a guess in person or on the Facebook page. Winners will be drawn each Tuesday morning.
LOCATION:5521 Cahaba Valley Road\, Birmingham AL 35242
UID:e.145.7975
SEQUENCE:3
DTSTAMP:20260422T124942Z
URL:https://business.shelbychamber.org/events/details/elves-in-the-shelves-12-01-2015-7975
END:VEVENT

END:VCALENDAR
