BEGIN:VCALENDAR
VERSION:2.0
PRODID:-//ChamberMaster//Event Calendar 2.0//EN
METHOD:PUBLISH
X-PUBLISHED-TTL:P3D
REFRESH-INTERVAL:P3D
CALSCALE:GREGORIAN
BEGIN:VEVENT
DTSTART:20160424T000000Z
DTEND:20160523T150000Z
X-MICROSOFT-CDO-ALLDAYEVENT:FALSE
SUMMARY:Emily Herring\, Songs of Patsy Kline
DESCRIPTION:Emily Herring takes us back to a bygone time with her amazing performance as Patsy Cline\, famed country music singer of the 50's and 60's.  Emily is an Assistant Professor of voice at the University of Alabama.  She has performed o National Tours and at many regional theaters.
X-ALT-DESC;FMTTYPE=text/html:<span style="background-color:rgb(255\, 255\, 255)">Emily Herring takes us back to a bygone time with her amazing&nbsp\;performance&nbsp\;as Patsy Cline\, famed country&nbsp\;music singer of the 50&#39\;s and 60&#39\;s. &nbsp\;Emily is an Assistant Professor of voice at the University of Alabama. &nbsp\;She has&nbsp\;performed&nbsp\;o National Tours&nbsp\;and at many regional&nbsp\;theaters.</span>
LOCATION:The Shelby County Arts Council
UID:e.145.9402
SEQUENCE:3
DTSTAMP:20260422T043408Z
URL:https://business.shelbychamber.org/events/details/emily-herring-songs-of-patsy-kline-04-23-2016-9402
END:VEVENT

END:VCALENDAR
