BEGIN:VCALENDAR
VERSION:2.0
PRODID:-//ChamberMaster//Event Calendar 2.0//EN
METHOD:PUBLISH
X-PUBLISHED-TTL:P3D
REFRESH-INTERVAL:P3D
CALSCALE:GREGORIAN
BEGIN:VEVENT
DTSTART:20140815T130000Z
DTEND:20140816T220000Z
X-MICROSOFT-CDO-ALLDAYEVENT:FALSE
SUMMARY:Estate Sale Blowout: Everything MUST Go!
DESCRIPTION:Outrageous Estate Sale: Everything MUST Go! You DO NOT want to miss out on this sale! Furniture galore\, antiques\, Grand Piano\, Dining Room Suite\, Refrigerator with Ice Maker\, Maytag Washer and Dryer\, Outdoor furniture and swings\, Yard and Garden tools\, Power tools including framing nail & trim guns\, grinder & sanders\, table saws\, router and more........Hand tools\, i.e. hammers\, sledge hammers\, levels\, squares\, demo bars\; Knaack Large Metal Toolbox\, Dishes\, Crystal\, Silver\, Linens\, Toys\, Deer Stand\, Fishing Equipment\, Water toys\, Bookcases\, Tons of Christmas Decorations....and so much more.\n\n\n\nClick here for a printable flier listing of items!
X-ALT-DESC;FMTTYPE=text/html:Outrageous Estate Sale: Everything MUST Go! You DO NOT want to miss out on this sale! Furniture galore\, antiques\, Grand Piano\, Dining Room Suite\, Refrigerator with Ice Maker\, Maytag Washer and Dryer\, Outdoor furniture and swings\, Yard and Garden tools\, Power tools including framing nail &amp\; trim guns\, grinder &amp\; sanders\, table saws\, router and more........Hand tools\, i.e. hammers\, sledge hammers\, levels\, squares\, demo bars\; Knaack Large Metal Toolbox\, Dishes\, Crystal\, Silver\, Linens\, Toys\, Deer Stand\, Fishing Equipment\, Water toys\, Bookcases\, Tons of Christmas Decorations....and so much more.<br />\n<br />\n<a href="http://cloud.chambermaster.com/userfiles/UserFiles/chambers/145/File/Community%20Events/ESTATESALE.Flyer.pdf"><strong>Click here for a printable flier listi</strong>ng of items!</a>
LOCATION:245 So. River Dr.\, Shelby\, Al LaCoosa Marina @ Lay Lake.
UID:e.145.6161
SEQUENCE:3
DTSTAMP:20260423T120848Z
URL:https://business.shelbychamber.org/events/details/estate-sale-blowout-everything-must-go-08-15-2014-6161
END:VEVENT

END:VCALENDAR
