BEGIN:VCALENDAR
VERSION:2.0
PRODID:-//ChamberMaster//Event Calendar 2.0//EN
METHOD:PUBLISH
X-PUBLISHED-TTL:P3D
REFRESH-INTERVAL:P3D
CALSCALE:GREGORIAN
BEGIN:VEVENT
DTSTART:20120117T003000Z
DTEND:20120117T013000Z
X-MICROSOFT-CDO-ALLDAYEVENT:FALSE
SUMMARY:Event at Circle of Champions ToastMasters
DESCRIPTION:Open House at Circle of Champions Toastmasters club.  Phil Taylor will be the guest speaker.  He is the author of "Set Yourself on Fire" and founder of GoalAchievers.  The event will be held between 6:30-7:30 PM.  The event is free\, and the club will provide refreshments.
X-ALT-DESC;FMTTYPE=text/html:<span style="background-color: #f0ffff">Open House at Circle of Champions Toastmasters club.&nbsp\; Phil Taylor will be the guest speaker.&nbsp\; He is the author of &quot\;Set Yourself on Fire&quot\; and founder of GoalAchievers.&nbsp\; The event will be held between 6:30-7:30 PM.&nbsp\; The event is free\, and the club will provide refreshments.</span>
LOCATION:Abundant Life Church\, 1625 Kent Dairy Road\, Alabaster\, AL
UID:e.145.3637
SEQUENCE:3
DTSTAMP:20260425T135235Z
URL:https://business.shelbychamber.org/events/details/event-at-circle-of-champions-toastmasters-01-16-2012-3637
END:VEVENT

END:VCALENDAR
