BEGIN:VCALENDAR
VERSION:2.0
PRODID:-//ChamberMaster//Event Calendar 2.0//EN
METHOD:PUBLISH
X-PUBLISHED-TTL:P3D
REFRESH-INTERVAL:P3D
CALSCALE:GREGORIAN
BEGIN:VEVENT
DTSTART:20120402T233000Z
DTEND:20120403T003000Z
X-MICROSOFT-CDO-ALLDAYEVENT:FALSE
SUMMARY:Event at Circle of Champions ToastMasters
DESCRIPTION:The meeting will help people develop or perfect their public speaking skills. Members are allowed to work at their own pace\, and the environment is supportive and encouraging.
X-ALT-DESC;FMTTYPE=text/html:The meeting will help people develop or perfect their public speaking skills. Members are allowed to work at their own pace\, and the environment is supportive and encouraging. 
LOCATION:Abundant Life Church\, 1625 Kent Dairy Road\, Alabaster
UID:e.145.3889
SEQUENCE:3
DTSTAMP:20260425T102104Z
URL:https://business.shelbychamber.org/events/details/event-at-circle-of-champions-toastmasters-04-02-2012-3889
END:VEVENT

END:VCALENDAR
