BEGIN:VCALENDAR
VERSION:2.0
PRODID:-//ChamberMaster//Event Calendar 2.0//EN
METHOD:PUBLISH
X-PUBLISHED-TTL:P3D
REFRESH-INTERVAL:P3D
CALSCALE:GREGORIAN
BEGIN:VEVENT
DTSTART:20120702T233000Z
DTEND:20120703T003000Z
X-MICROSOFT-CDO-ALLDAYEVENT:FALSE
SUMMARY:Event at Circle of Champions ToastMasters
DESCRIPTION:Whether you want to learn to speak in public or to enhance your public speaking skills\, the Circle of Champions Toastmasters club is for you.  Our program is self-paced.  The club meetings are fun\, supportive\, and educational.
X-ALT-DESC;FMTTYPE=text/html:Whether you want to learn to speak in public or to enhance your public speaking skills\, the Circle of Champions Toastmasters club is for you.&nbsp\; Our program is self-paced.&nbsp\; The club meetings are fun\, supportive\, and educational.
LOCATION:Abundant Life Church\, 1625 kent Dairy Road\, Alabaster\, AL 35007 near Thompson Middle school
UID:e.145.4220
SEQUENCE:3
DTSTAMP:20260425T042735Z
URL:https://business.shelbychamber.org/events/details/event-at-circle-of-champions-toastmasters-07-02-2012-4220
END:VEVENT

END:VCALENDAR
