BEGIN:VCALENDAR
VERSION:2.0
PRODID:-//ChamberMaster//Event Calendar 2.0//EN
METHOD:PUBLISH
X-PUBLISHED-TTL:P3D
REFRESH-INTERVAL:P3D
CALSCALE:GREGORIAN
BEGIN:VEVENT
DTSTART:20120716T233000Z
DTEND:20120717T003000Z
X-MICROSOFT-CDO-ALLDAYEVENT:FALSE
SUMMARY:Event at Circle of Champions ToastMasters
DESCRIPTION:Want to learn or perfect the following skills?\n\n	\n		Public speaking\n	\n		Impromptu speaking\n	\n		Time management\n	\n		Facilitating a meeting\n	\n		Listening skills\n\n\n	The Circle of Champions Toastmasters club providea all of this at minimal cost.  We are part of the Toastmasters International program\, which is a self-paced program and a non-profit organization.  Our meetings are entertaining\, educational\, and encouraging.  Please drop by and see if this club is for you.
X-ALT-DESC;FMTTYPE=text/html:Want to learn or perfect the following skills?\n<ol>\n	<li>\n		Public speaking</li>\n	<li>\n		Impromptu speaking</li>\n	<li>\n		Time management</li>\n	<li>\n		Facilitating a meeting</li>\n	<li>\n		Listening skills</li>\n</ol>\n<p>\n	The Circle of Champions Toastmasters club providea all of this at minimal cost.&nbsp\; We are part of the Toastmasters International program\, which is a self-paced program and a non-profit organization.&nbsp\; Our meetings are entertaining\, educational\, and encouraging.&nbsp\; Please drop by and see if this club is for you.</p>\n
LOCATION:Abundant Life Church\, 1625 Kent Dairy Rd.\, Alabaster\, AL near the Thompson Middle School
UID:e.145.4221
SEQUENCE:3
DTSTAMP:20260425T042313Z
URL:https://business.shelbychamber.org/events/details/event-at-circle-of-champions-toastmasters-07-16-2012-4221
END:VEVENT

END:VCALENDAR
