BEGIN:VCALENDAR
VERSION:2.0
PRODID:-//ChamberMaster//Event Calendar 2.0//EN
METHOD:PUBLISH
X-PUBLISHED-TTL:P3D
REFRESH-INTERVAL:P3D
CALSCALE:GREGORIAN
BEGIN:VEVENT
DTSTART:20120806T233000Z
DTEND:20120807T003000Z
X-MICROSOFT-CDO-ALLDAYEVENT:FALSE
SUMMARY:Event at Circle of Champions ToastMasters
DESCRIPTION:If you want to develop or improve on the following skills\, then the Circle of Champions club is for you.\n\n	\n\n	 \n\n	\n		public speaking\n	\n		impromptu speaking\n	\n		listening\n	\n		facilitating meetings\n	\n		giving feedback\n\n\n	The Circle of Champions club is relatively inexpensive.  The meetings are fun\, informativem and supportive.  Drpb y and visit for free and see if this club is for you.
X-ALT-DESC;FMTTYPE=text/html:<p>\n	<em><strong><span style="font-size: 14px">If you want to develop or improve on the following skills\, then the Circle of Champions club is for you.</span></strong></em><br />\n	<br />\n	&nbsp\;</p>\n<ol>\n	<li>\n		public speaking</li>\n	<li>\n		impromptu speaking</li>\n	<li>\n		listening</li>\n	<li>\n		facilitating meetings</li>\n	<li>\n		giving feedback</li>\n</ol>\n<p>\n	The Circle of Champions club is relatively inexpensive.&nbsp\; The meetings are fun\, informativem and supportive.&nbsp\; Drpb y and visit for free and see if this club is for you.</p>\n
LOCATION:Abundant Life Church\, 1625 Kent Dairy Road\, Alabaster\, AL 35007 (near Thompson Middle School)
UID:e.145.4222
SEQUENCE:3
DTSTAMP:20260425T024748Z
URL:https://business.shelbychamber.org/events/details/event-at-circle-of-champions-toastmasters-08-06-2012-4222
END:VEVENT

END:VCALENDAR
