BEGIN:VCALENDAR
VERSION:2.0
PRODID:-//ChamberMaster//Event Calendar 2.0//EN
METHOD:PUBLISH
X-PUBLISHED-TTL:P3D
REFRESH-INTERVAL:P3D
CALSCALE:GREGORIAN
BEGIN:VEVENT
DTSTART:20120820T233000Z
DTEND:20120821T003000Z
X-MICROSOFT-CDO-ALLDAYEVENT:FALSE
SUMMARY:Event at Circle of Champions ToastMasters
DESCRIPTION:No matgter what happens in our world\, communication and leadership skills are necessary for career success.  The Toastmasters International Organization is a non-profit organization\, which helps folks develop or perfect those skills through practice.\n\n	\n\n	Please attend the Circle of Champions Toastmasters club\, which is a part of the Toastmasters International Organization.  The club is entertaining\, educational\, and encouraging.
X-ALT-DESC;FMTTYPE=text/html:<p>\n	No matgter what happens in our world\, communication and leadership skills are necessary for career success.&nbsp\; The Toastmasters International Organization is a non-profit organization\, which helps folks develop or perfect those skills through practice.<br />\n	<br />\n	Please attend the <u><strong>Circle of Champions Toastmasters club</strong></u>\, which is a part of the Toastmasters International Organization.&nbsp\; The club is entertaining\, educational\, and encouraging.</p>\n
LOCATION:Abundant Life Church\, 1625 Kent Dairy Rd.\, Alabaster\, AL (near Thompson Middle school)
UID:e.145.4223
SEQUENCE:3
DTSTAMP:20260425T041626Z
URL:https://business.shelbychamber.org/events/details/event-at-circle-of-champions-toastmasters-08-20-2012-4223
END:VEVENT

END:VCALENDAR
