BEGIN:VCALENDAR
VERSION:2.0
PRODID:-//ChamberMaster//Event Calendar 2.0//EN
METHOD:PUBLISH
X-PUBLISHED-TTL:P3D
REFRESH-INTERVAL:P3D
CALSCALE:GREGORIAN
BEGIN:VEVENT
DTSTART;VALUE=DATE:20110502
DTEND;VALUE=DATE:20110531
TRANSP:TRANSPARENT
X-MICROSOFT-CDO-ALLDAYEVENT:TRUE
SUMMARY:Event at Shelby County Arts Council
DESCRIPTION:Classes available from beginner to advanced\n\nRecommended to begin playing acoustic guitar\, electric guitar optional\n\n\n\nAges 6 - Adult
X-ALT-DESC;FMTTYPE=text/html:Classes available from beginner to advanced\n<br>Recommended to begin playing acoustic guitar\, electric guitar optional\n<br>\n<br>Ages 6 - Adult
LOCATION:Shelby County Arts Council
UID:e.145.3316
SEQUENCE:3
DTSTAMP:20260426T021958Z
URL:https://business.shelbychamber.org/events/details/event-at-shelby-county-arts-council-05-02-2011-3316
END:VEVENT

END:VCALENDAR
