BEGIN:VCALENDAR
VERSION:2.0
PRODID:-//ChamberMaster//Event Calendar 2.0//EN
METHOD:PUBLISH
X-PUBLISHED-TTL:P3D
REFRESH-INTERVAL:P3D
CALSCALE:GREGORIAN
BEGIN:VEVENT
DTSTART;VALUE=DATE:20110503
DTEND;VALUE=DATE:20110601
TRANSP:TRANSPARENT
X-MICROSOFT-CDO-ALLDAYEVENT:TRUE
SUMMARY:Event at Shelby County Arts Council
DESCRIPTION:Bring your own supplies\, Artists are invited to come and paint in our studio\, enjoy the company and encouragement of your fellow artists\, all mediums are welcome
X-ALT-DESC;FMTTYPE=text/html:Bring your own supplies\, Artists are invited to come and paint in our studio\, enjoy the company and encouragement of your fellow artists\, all mediums are welcome
LOCATION:Shelby County Arts Council
UID:e.145.3327
SEQUENCE:3
DTSTAMP:20260426T033954Z
URL:https://business.shelbychamber.org/events/details/event-at-shelby-county-arts-council-05-03-2011-3327
END:VEVENT

END:VCALENDAR
