BEGIN:VCALENDAR
VERSION:2.0
PRODID:-//ChamberMaster//Event Calendar 2.0//EN
METHOD:PUBLISH
X-PUBLISHED-TTL:P3D
REFRESH-INTERVAL:P3D
CALSCALE:GREGORIAN
BEGIN:VEVENT
DTSTART;VALUE=DATE:20110705
DTEND;VALUE=DATE:20110727
TRANSP:TRANSPARENT
X-MICROSOFT-CDO-ALLDAYEVENT:TRUE
SUMMARY:Event at Shelby County Arts Council
DESCRIPTION:Relaxed Studio Class\n\nNo experience necessary\n\nPersonalized Attention Given
X-ALT-DESC;FMTTYPE=text/html:Relaxed Studio Class\n<br>No experience necessary\n<br>Personalized Attention Given
LOCATION:Shelby County Arts Council
UID:e.145.3317
SEQUENCE:3
DTSTAMP:20260426T005643Z
URL:https://business.shelbychamber.org/events/details/event-at-shelby-county-arts-council-07-05-2011-3317
END:VEVENT

END:VCALENDAR
