BEGIN:VCALENDAR
VERSION:2.0
PRODID:-//ChamberMaster//Event Calendar 2.0//EN
METHOD:PUBLISH
X-PUBLISHED-TTL:P3D
REFRESH-INTERVAL:P3D
CALSCALE:GREGORIAN
BEGIN:VEVENT
DTSTART:20120823T210000Z
DTEND:20120823T230000Z
X-MICROSOFT-CDO-ALLDAYEVENT:FALSE
SUMMARY:Fall Open House at Shelby County Arts Council
DESCRIPTION:The Shelby County Arts Council Fall Open house will be Thursday\, August 23\, 2012 from 4:00 pm   6:00 pm at our Gallery in Columbiana\, Alabama.   This casual informative afternoon offers students the chance to meet the instructor\, discuss the class and priority registration.   We offer a full slate of classes including:  Oil/Acrylic Painting\, Drawing\, Photography\, Pottery\, Piano\, Guitar\, and Voice for children\, youth and adults.  In addition\, we offer monthly workshops by local artist in such areas are Palette Knife Painting\, Watercolor Painting\, Metal-Clay Jewelry Making\, Advanced Pottery and more.   Visit our website for a full list of class offerings:  www.shelbycountyartscouncil.com .  (104 Mildred Street\, Columbiana\, AL.  Phone 205 669 0044)
X-ALT-DESC;FMTTYPE=text/html:<p class="MsoNormal" style="margin: 0in 0in 10pt">\n	<span style="font-size:12px\;"><font color="#000000">The Shelby County Arts Council Fall Open house will be Thursday\, August 23\, 2012 from 4:00 pm &ndash\; 6:00 pm at our Gallery in Columbiana\, Alabama.<span>&nbsp\;&nbsp\; </span>This casual informative afternoon offers students the chance to meet the instructor\, discuss the class and priority registration.<span>&nbsp\;&nbsp\; </span>We offer a full slate of classes including:<span>&nbsp\; </span>Oil/Acrylic Painting\, Drawing\, Photography\, Pottery\, Piano\, Guitar\, and Voice for children\, youth and adults.<span>&nbsp\; </span>In addition\, we offer monthly workshops by local artist in such areas are Palette Knife Painting\, Watercolor Painting\, Metal-Clay Jewelry Making\, Advanced Pottery and more.<span>&nbsp\;&nbsp\; </span>Visit our website for a full list of class offerings:<span>&nbsp\; </span></font><a href="http://www.shelbycountyartscouncil.com/"><font color="#0000ff">www.shelbycountyartscouncil.com</font></a><font color="#000000"> .<span>&nbsp\; </span>(104 Mildred Street\, Columbiana\, AL.<span>&nbsp\; </span>Phone 205 669 0044)</font></span><font size="3"><font color="#000000"><o:p></o:p></font></font></p>\n
LOCATION:104 Mildred Street\, Columbiana\, AL
UID:e.145.4261
SEQUENCE:3
DTSTAMP:20260425T042039Z
URL:https://business.shelbychamber.org/events/details/fall-open-house-at-shelby-county-arts-council-08-23-2012-4261
END:VEVENT

END:VCALENDAR
