BEGIN:VCALENDAR
VERSION:2.0
PRODID:-//ChamberMaster//Event Calendar 2.0//EN
METHOD:PUBLISH
X-PUBLISHED-TTL:P3D
REFRESH-INTERVAL:P3D
CALSCALE:GREGORIAN
BEGIN:VEVENT
DTSTART:20130917T150000Z
DTEND:20130917T190000Z
X-MICROSOFT-CDO-ALLDAYEVENT:FALSE
SUMMARY:Fall Product Showcase sponsored by Junior Davis & Associates\, Inc.
DESCRIPTION:Please join us for our Fall Product Showcase featuring over 50 manufacturers of safety\, promotional and advertising items.  See what is new for this fall and 2014. Get ideas for giveaways at your next event. Design an employee incentive program and pick the products.   Anything you can put a logo on\, we sell.  Please come and see what services Junior Davis & Associates\, Inc. has to offer your company.
X-ALT-DESC;FMTTYPE=text/html:<big><span style="font-family: verdana\;">Please join us for our <u>Fall Product Showcase</u> featuring over 50 manufacturers of safety\, promotional and advertising items.&nbsp\; <font face="Verdana">See what is new for this fall and 2014.&nbsp\;</font>Get ideas for giveaways at your next event. Design an employee incentive program and pick the products.&nbsp\;&nbsp\;&nbsp\;Anything you can put a logo on\, we sell.&nbsp\; Please come and see what services Junior Davis &amp\; Associates\, Inc. has to offer your company.</span></big>
LOCATION:Pelham Civic Complex
UID:e.145.4719
SEQUENCE:3
DTSTAMP:20260424T065601Z
URL:https://business.shelbychamber.org/events/details/fall-product-showcase-sponsored-by-junior-davis-associates-inc-09-17-2013-4719
END:VEVENT

END:VCALENDAR
