BEGIN:VCALENDAR
VERSION:2.0
PRODID:-//ChamberMaster//Event Calendar 2.0//EN
METHOD:PUBLISH
X-PUBLISHED-TTL:P3D
REFRESH-INTERVAL:P3D
CALSCALE:GREGORIAN
BEGIN:VEVENT
DTSTART:20110606T153000Z
DTEND:20110606T220000Z
X-MICROSOFT-CDO-ALLDAYEVENT:FALSE
SUMMARY:Family Connection's Annual Golf Tournament
DESCRIPTION:Support Family Connection's shelter and counseling services for at-risk\, runaway and homeless youth at our annual golf tournament. Prizes awarded for first\, second and third places\, Closest to Pin and Longest Fairway Drive. Free green fee to return to Timberline Golf Club included in the registration for the tournament.
X-ALT-DESC;FMTTYPE=text/html:Support Family Connection's shelter and counseling services for at-risk\, runaway and homeless youth at our annual golf tournament. Prizes awarded for first\, second and third places\, Closest to Pin and Longest Fairway Drive. Free green fee to return to Timberline Golf Club included in the registration for the tournament.
LOCATION:Timberline Golf Club\, Calera
UID:e.145.3263
SEQUENCE:3
DTSTAMP:20260426T005747Z
URL:https://business.shelbychamber.org/events/details/family-connection-s-annual-golf-tournament-06-06-2011-3263
END:VEVENT

END:VCALENDAR
