BEGIN:VCALENDAR
VERSION:2.0
PRODID:-//ChamberMaster//Event Calendar 2.0//EN
METHOD:PUBLISH
X-PUBLISHED-TTL:P3D
REFRESH-INTERVAL:P3D
CALSCALE:GREGORIAN
BEGIN:VEVENT
DTSTART:20160725T230000Z
DTEND:20160726T000000Z
X-MICROSOFT-CDO-ALLDAYEVENT:FALSE
SUMMARY:Family Game Night
DESCRIPTION:Bring the whole family for card games\, board games\, and special tabletop games! No registration required.
X-ALT-DESC;FMTTYPE=text/html:<span style="font-family:calibri light\,sans-serif">Bring the whole family for card games\, board games\, and special tabletop games! No registration required.&nbsp\;</span>
LOCATION:North Shelby Library 5521 Cahaba Valley Road Birmingham\, AL 35242
UID:e.145.9600
SEQUENCE:3
DTSTAMP:20260422T011907Z
URL:https://business.shelbychamber.org/events/details/family-game-night-07-25-2016-9600
END:VEVENT

END:VCALENDAR
