BEGIN:VCALENDAR
VERSION:2.0
PRODID:-//ChamberMaster//Event Calendar 2.0//EN
METHOD:PUBLISH
X-PUBLISHED-TTL:P3D
REFRESH-INTERVAL:P3D
CALSCALE:GREGORIAN
BEGIN:VEVENT
DTSTART:20160623T230000Z
DTEND:20160623T234500Z
X-MICROSOFT-CDO-ALLDAYEVENT:FALSE
SUMMARY:Family Ice Cream Social
DESCRIPTION:Bring the whole family and make a delicious sundae! All ages. No registration required.
X-ALT-DESC;FMTTYPE=text/html:<span style="font-family:calibri light\,sans-serif"><span style="font-size:12.0pt">Bring the whole family and make a delicious sundae! All ages. No registration required.</span></span>
LOCATION:North Shelby Library
UID:e.145.9538
SEQUENCE:3
DTSTAMP:20260422T030637Z
URL:https://business.shelbychamber.org/events/details/family-ice-cream-social-06-23-2016-9538
END:VEVENT

END:VCALENDAR
