BEGIN:VCALENDAR
VERSION:2.0
PRODID:-//ChamberMaster//Event Calendar 2.0//EN
METHOD:PUBLISH
X-PUBLISHED-TTL:P3D
REFRESH-INTERVAL:P3D
CALSCALE:GREGORIAN
BEGIN:VEVENT
DTSTART:20160721T190000Z
DTEND:20160721T210000Z
X-MICROSOFT-CDO-ALLDAYEVENT:FALSE
SUMMARY:Family Movie Day
DESCRIPTION:Join us to watch a family friendly\, new release movie. All ages are welcome. Snacks served.
X-ALT-DESC;FMTTYPE=text/html:<span style="font-family:calibri light\,sans-serif">Join us to watch a family friendly\, new release movie. All ages are welcome. Snacks served.</span>
LOCATION:North Shelby Library 5521 Cahaba Valley Road Birmingham\, AL 35242
UID:e.145.9610
SEQUENCE:3
DTSTAMP:20260422T013702Z
URL:https://business.shelbychamber.org/events/details/family-movie-day-07-21-2016-9610
END:VEVENT

END:VCALENDAR
