BEGIN:VCALENDAR
VERSION:2.0
PRODID:-//ChamberMaster//Event Calendar 2.0//EN
METHOD:PUBLISH
X-PUBLISHED-TTL:P3D
REFRESH-INTERVAL:P3D
CALSCALE:GREGORIAN
BEGIN:VEVENT
DTSTART:20131123T163000Z
DTEND:20131123T180000Z
X-MICROSOFT-CDO-ALLDAYEVENT:FALSE
SUMMARY:Family Movie Day - A Charlie Brown Thanksgiving
DESCRIPTION:Peppermint Patty invites herself and her friends over to Charlie Brown's for Thanksgiving\, and with Linus\, Snoopy\, and Woodstock\, he attempts to throw together a Thanksgiving dinner. No registration required. All ages are welcome with a caregiver.
X-ALT-DESC;FMTTYPE=text/html:Peppermint Patty invites herself and her friends over to Charlie Brown&#39\;s for Thanksgiving\, and with Linus\, Snoopy\, and Woodstock\, he attempts to throw together a Thanksgiving dinner. No registration required. All ages are welcome with a caregiver.
LOCATION:North Shelby Library 5521 Cahaba Valley Rd. B'ham\, AL 35242
UID:e.145.4779
SEQUENCE:3
DTSTAMP:20260424T021825Z
URL:https://business.shelbychamber.org/events/details/family-movie-day-a-charlie-brown-thanksgiving-11-23-2013-4779
END:VEVENT

END:VCALENDAR
