BEGIN:VCALENDAR
VERSION:2.0
PRODID:-//ChamberMaster//Event Calendar 2.0//EN
METHOD:PUBLISH
X-PUBLISHED-TTL:P3D
REFRESH-INTERVAL:P3D
CALSCALE:GREGORIAN
BEGIN:VEVENT
DTSTART:20140111T163000Z
DTEND:20140111T180000Z
X-MICROSOFT-CDO-ALLDAYEVENT:FALSE
SUMMARY:Family Movie Day - Happy Feet
DESCRIPTION:This is the story of a little penguin named Mumble who has a terrible singing voice and later discovers he has no Heartsong. However\, Mumble has an astute talent for something that none of the penguins had ever seen before: tap dancing. All ages are welcome with a caregiver. No registration is required. Snacks served.
X-ALT-DESC;FMTTYPE=text/html:This is the story of a little penguin named Mumble who has a terrible singing voice and later discovers he has no Heartsong. However\, Mumble has an astute talent for something that none of the penguins had ever seen before: tap dancing. All ages are welcome with a caregiver. No registration is required. Snacks served.
LOCATION:North Shelby Library
UID:e.145.4998
SEQUENCE:3
DTSTAMP:20260423T230645Z
URL:https://business.shelbychamber.org/events/details/family-movie-day-happy-feet-01-11-2014-4998
END:VEVENT

END:VCALENDAR
