BEGIN:VCALENDAR
VERSION:2.0
PRODID:-//ChamberMaster//Event Calendar 2.0//EN
METHOD:PUBLISH
X-PUBLISHED-TTL:P3D
REFRESH-INTERVAL:P3D
CALSCALE:GREGORIAN
BEGIN:VEVENT
DTSTART:20140222T163000Z
DTEND:20140222T183000Z
X-MICROSOFT-CDO-ALLDAYEVENT:FALSE
SUMMARY:Family Movie Day - Mary Poppins
DESCRIPTION:"Practically Perfect in Every Way" Mary Poppins flies out of the windy London skies and into the home of two mischievous children. All ages are welcome with a caregiver. No registration is required. Snacks served.
X-ALT-DESC;FMTTYPE=text/html:&quot\;Practically Perfect in Every Way&quot\; Mary Poppins flies out of the windy London skies and into the home of two mischievous children. All ages are welcome with a caregiver. No registration is required. Snacks served.
LOCATION:North Shelby Library
UID:e.145.5016
SEQUENCE:3
DTSTAMP:20260423T213445Z
URL:https://business.shelbychamber.org/events/details/family-movie-day-mary-poppins-02-22-2014-5016
END:VEVENT

END:VCALENDAR
