BEGIN:VCALENDAR
VERSION:2.0
PRODID:-//ChamberMaster//Event Calendar 2.0//EN
METHOD:PUBLISH
X-PUBLISHED-TTL:P3D
REFRESH-INTERVAL:P3D
CALSCALE:GREGORIAN
BEGIN:VEVENT
DTSTART:20160721T190000Z
DTEND:20160721T210000Z
X-MICROSOFT-CDO-ALLDAYEVENT:FALSE
SUMMARY:Family Movie Days
DESCRIPTION:Join us to watch a family friendly\, new release movie. All ages are welcome. Snacks served.
X-ALT-DESC;FMTTYPE=text/html:<span style="font-family:calibri light\,sans-serif">Join us to watch a family friendly\, new release movie. All ages are welcome. Snacks served.</span>
LOCATION:North Shelby Library
UID:e.145.9552
SEQUENCE:3
DTSTAMP:20260422T013637Z
URL:https://business.shelbychamber.org/events/details/family-movie-days-07-21-2016-9552
END:VEVENT

END:VCALENDAR
