BEGIN:VCALENDAR
VERSION:2.0
PRODID:-//ChamberMaster//Event Calendar 2.0//EN
METHOD:PUBLISH
X-PUBLISHED-TTL:P3D
REFRESH-INTERVAL:P3D
CALSCALE:GREGORIAN
BEGIN:VEVENT
DTSTART:20160106T164500Z
DTEND:20160106T173000Z
X-MICROSOFT-CDO-ALLDAYEVENT:FALSE
SUMMARY:Family Storytime with Mr. Mac
DESCRIPTION:Stories\, puppets\, and lots of music for every member of the family.  All Ages. No Registration.
X-ALT-DESC;FMTTYPE=text/html:Stories\, puppets\, and lots of music for every member of the family.&nbsp\; <u>All Ages</u>. <u>No Registration.</u>
LOCATION:5521 Cahaba Valley Road\, Birmingham AL 35242
UID:e.145.8236
SEQUENCE:3
DTSTAMP:20260422T110808Z
URL:https://business.shelbychamber.org/events/details/family-storytime-with-mr-mac-01-06-2016-8236
END:VEVENT

END:VCALENDAR
