BEGIN:VCALENDAR
VERSION:2.0
PRODID:-//ChamberMaster//Event Calendar 2.0//EN
METHOD:PUBLISH
X-PUBLISHED-TTL:P3D
REFRESH-INTERVAL:P3D
CALSCALE:GREGORIAN
BEGIN:VEVENT
DTSTART:20140205T164500Z
DTEND:20140205T171500Z
X-MICROSOFT-CDO-ALLDAYEVENT:FALSE
SUMMARY:Family Storytime with Mr. Mac
DESCRIPTION:Stories\, puppets\, and lots of music for every member of the family. All Ages. No Registration.
X-ALT-DESC;FMTTYPE=text/html:Stories\, puppets\, and lots of music for every member of the family. All Ages. No Registration. 
LOCATION:North Shelby Library
UID:e.145.5028
SEQUENCE:3
DTSTAMP:20260423T213305Z
URL:https://business.shelbychamber.org/events/details/family-storytime-with-mr-mac-02-05-2014-5028
END:VEVENT

END:VCALENDAR
