BEGIN:VCALENDAR
VERSION:2.0
PRODID:-//ChamberMaster//Event Calendar 2.0//EN
METHOD:PUBLISH
X-PUBLISHED-TTL:P3D
REFRESH-INTERVAL:P3D
CALSCALE:GREGORIAN
BEGIN:VEVENT
DTSTART:20131120T164500Z
DTEND:20131120T171500Z
X-MICROSOFT-CDO-ALLDAYEVENT:FALSE
SUMMARY:Family Storytime with Mr. Mac
DESCRIPTION:Stories\, puppets\, and lots of music for every member of the family. All Ages. No Registration.
X-ALT-DESC;FMTTYPE=text/html:Stories\, puppets\, and lots of music for every member of the family. All Ages. No Registration. 
LOCATION:North Shelby Library 5521 Cahaba Valley Rd. B'ham\, AL 35242
UID:e.145.4785
SEQUENCE:3
DTSTAMP:20260424T021226Z
URL:https://business.shelbychamber.org/events/details/family-storytime-with-mr-mac-11-20-2013-4785
END:VEVENT

END:VCALENDAR
