BEGIN:VCALENDAR
VERSION:2.0
PRODID:-//ChamberMaster//Event Calendar 2.0//EN
METHOD:PUBLISH
X-PUBLISHED-TTL:P3D
REFRESH-INTERVAL:P3D
CALSCALE:GREGORIAN
BEGIN:VEVENT
DTSTART:20150121T164500Z
DTEND:20150121T173000Z
X-MICROSOFT-CDO-ALLDAYEVENT:FALSE
SUMMARY:Family Storytime with Mr. Mac at North Shelby Library
DESCRIPTION:Mr. Mac (Storyteller Extraordinaire!) \nWednesdays\, August 6th\, 13th\, 20th\, and 27th at 10:45 am. \n\nStories\, puppets\, and lots of music for every member of the family.  All ages welcome. No registration required.
X-ALT-DESC;FMTTYPE=text/html:<h3><strong>Mr. Mac (Storyteller Extraordinaire!) </strong></h3>\n<strong>Wednesdays\, August 6th\, 13th\, 20th\, and 27th at 10:45 am. </strong><br />\nStories\, puppets\, and lots of music for every member of the family.&nbsp\; All ages welcome. No registration required.
LOCATION:North Shelby Library 5521 Cahaba Valley Rd.
UID:e.145.6613
SEQUENCE:3
DTSTAMP:20260423T063422Z
URL:https://business.shelbychamber.org/events/details/family-storytime-with-mr-mac-at-north-shelby-library-01-21-2015-6613
END:VEVENT

END:VCALENDAR
