BEGIN:VCALENDAR
VERSION:2.0
PRODID:-//ChamberMaster//Event Calendar 2.0//EN
METHOD:PUBLISH
X-PUBLISHED-TTL:P3D
REFRESH-INTERVAL:P3D
CALSCALE:GREGORIAN
BEGIN:VEVENT
DTSTART:20140412T140000Z
DTEND:20140412T220000Z
X-MICROSOFT-CDO-ALLDAYEVENT:FALSE
SUMMARY:Farm Day
DESCRIPTION:Take a look at Alabama's agricultural heritage with a fun and educational peak into daily farm life during this annual event in the Junior League of Birmingham - Hugh Kaul Children's Zoo and Alabama Wilds. Watch horseshoe making demonstrations\, create rural-themed arts and crafts\, examine several antique tractors and farm equipment\, watch a goat show and much more!
X-ALT-DESC;FMTTYPE=text/html:Take a look at Alabama&#39\;s agricultural heritage with a fun and educational peak into daily farm life during this annual event in the Junior League of Birmingham - Hugh Kaul Children&#39\;s Zoo and Alabama Wilds. Watch horseshoe making demonstrations\, create rural-themed arts and crafts\, examine several antique tractors and farm equipment\, watch a goat show and much more!
LOCATION:The Birmingham Zoo
UID:e.145.5078
SEQUENCE:3
DTSTAMP:20260423T200015Z
URL:https://business.shelbychamber.org/events/details/farm-day-04-12-2014-5078
END:VEVENT

END:VCALENDAR
