BEGIN:VCALENDAR
VERSION:2.0
PRODID:-//ChamberMaster//Event Calendar 2.0//EN
METHOD:PUBLISH
X-PUBLISHED-TTL:P3D
REFRESH-INTERVAL:P3D
CALSCALE:GREGORIAN
BEGIN:VEVENT
DTSTART:20150109T163000Z
DTEND:20150109T173000Z
X-MICROSOFT-CDO-ALLDAYEVENT:FALSE
SUMMARY:Favorite Laundry & Laundry Basket's Ribbon Cutting
DESCRIPTION:Lets celebrate the one year anniversary of this adorable store being open! They will start with a Ribbon Cutting at 10:30AM and have sales and give aways all day.
X-ALT-DESC;FMTTYPE=text/html:Lets celebrate the one year anniversary of this adorable store being open! They will start with a Ribbon Cutting at 10:30AM and have sales and give aways all day.
LOCATION:The address is 100 Croft Street\, Birmingham\, 35242. The are inside the town of Mt. Laurel.
UID:e.145.6565
SEQUENCE:3
DTSTAMP:20260423T050513Z
URL:https://business.shelbychamber.org/events/details/favorite-laundry-laundry-basket-s-ribbon-cutting-01-09-2015-6565
END:VEVENT

END:VCALENDAR
