BEGIN:VCALENDAR
VERSION:2.0
PRODID:-//ChamberMaster//Event Calendar 2.0//EN
METHOD:PUBLISH
X-PUBLISHED-TTL:P3D
REFRESH-INTERVAL:P3D
CALSCALE:GREGORIAN
BEGIN:VEVENT
DTSTART;VALUE=DATE:20120927
DTEND;VALUE=DATE:20120928
TRANSP:TRANSPARENT
X-MICROSOFT-CDO-ALLDAYEVENT:TRUE
SUMMARY:FIESTA Benefiting Sight Savers America
DESCRIPTION:Join us for a Fiesta!\n\nBenefiting Sight Savers America.\n\nFeaturing live music with\n\nCARTER & the Family Band\;\n\nDinner\, with a Mexican flair\, drinks (including Margueritas)\, and a fabulous Silent Auction.\n\n\n\nTickets are $25 presale and $30 at the door.\n\n\n\nFOR MORE INFORMATION VISIT:  WWW.SIGHTSAVERSAMERICA.ORG\n\nOR CALL LINDA LONG --205-942-2627- X 227
X-ALT-DESC;FMTTYPE=text/html:<br />\nJoin us for a Fiesta!<br />\nBenefiting Sight Savers America.<br />\nFeaturing live music with<br />\nCARTER &amp\; the Family Band\;<br />\nDinner\, with a Mexican flair\, drinks (including Margueritas)\, and a fabulous Silent Auction.<br />\n<br />\nTickets are $25 presale and $30 at the door.<br />\n<br />\nFOR MORE INFORMATION VISIT:&nbsp\; WWW.SIGHTSAVERSAMERICA.ORG<br />\nOR CALL LINDA LONG --205-942-2627- X 227<br />\n
LOCATION:Highland Golf Club
UID:e.145.4389
SEQUENCE:3
DTSTAMP:20260425T010903Z
URL:https://business.shelbychamber.org/events/details/fiesta-benefiting-sight-savers-america-09-27-2012-4389
END:VEVENT

END:VCALENDAR
