BEGIN:VCALENDAR
VERSION:2.0
PRODID:-//ChamberMaster//Event Calendar 2.0//EN
METHOD:PUBLISH
X-PUBLISHED-TTL:P3D
REFRESH-INTERVAL:P3D
CALSCALE:GREGORIAN
BEGIN:VEVENT
DTSTART:20130518T140000Z
DTEND:20130518T170000Z
X-MICROSOFT-CDO-ALLDAYEVENT:FALSE
SUMMARY:Financial Communication - How do you spend money and why?
DESCRIPTION:70% of married couples fight over money.  With money and communication being the leading cause of divorce today\, it's more important than ever that you learn how to communicate with each other and what your money styles are.  How do you spend and save and why? This workshop will unlock all of the secrets behind why we are the way we are.\n\n\n\nSignup http://financialcommunication.eventbrite.com
X-ALT-DESC;FMTTYPE=text/html:70% of married couples fight over money.&nbsp\; With money and communication being the leading cause of divorce today\, it&#39\;s more important than ever that you learn how to communicate with each other and what your money styles are.&nbsp\; How do you spend and save and why? This workshop will unlock all of the secrets behind why we are the way we are.<br />\n<br />\nSignup <a href="http://financialcommunication.eventbrite.com">http://financialcommunication.eventbrite.com</a>
LOCATION:Trustway 1837 Montgomery Hwy S Suite 105 Hoover\, AL 35244
UID:e.145.4603
SEQUENCE:3
DTSTAMP:20260424T135007Z
URL:https://business.shelbychamber.org/events/details/financial-communication-how-do-you-spend-money-and-why-05-18-2013-4603
END:VEVENT

END:VCALENDAR
