BEGIN:VCALENDAR
VERSION:2.0
PRODID:-//ChamberMaster//Event Calendar 2.0//EN
METHOD:PUBLISH
X-PUBLISHED-TTL:P3D
REFRESH-INTERVAL:P3D
CALSCALE:GREGORIAN
BEGIN:VEVENT
DTSTART:20160116T000000Z
DTEND:20160116T020000Z
X-MICROSOFT-CDO-ALLDAYEVENT:FALSE
SUMMARY:Fine Folk Art III - Gallery Opening and Artist Reception
DESCRIPTION:The new year is here and with it new exhibits at the Shelby County Arts Council. Kicking off the new year is the annual Fine Folk Art show. This popular exhibit is back for it's third year with some exciting new artists as well as some returning favorites. Curator Teresa Wamble is ready to once again share the love of Folk Art with the people of Shelby County. The Gallery Exhibit opens January 15 with a reception from 6-8pm.  The Exhibit runs from January 15 to February 26\, 2016.  Gallery Hours are Monday - Friday\, 10am - 5pm.
X-ALT-DESC;FMTTYPE=text/html:<span style="color:rgb(0\, 0\, 0)\; font-family:arial\; font-size:medium">The new year is here and with it new exhibits at the Shelby County Arts Council. Kicking off&nbsp\;the new year is the annual Fine Folk Art show. This popular exhibit is back for it&#39\;s third year with some&nbsp\;exciting new artists as well as some returning favorites. Curator Teresa Wamble is ready to once again&nbsp\;share the love of Folk Art with the people of Shelby County. The Gallery Exhibit opens January 15 with a reception from 6-8pm. &nbsp\;The Exhibit runs from January 15 to February 26\, 2016. &nbsp\;Gallery Hours are Monday - Friday\, 10am - 5pm.&nbsp\;</span>
LOCATION:Shelby County Arts Council\, 104 Mildred Street
UID:e.145.8252
SEQUENCE:3
DTSTAMP:20260422T111114Z
URL:https://business.shelbychamber.org/events/details/fine-folk-art-iii-gallery-opening-and-artist-reception-01-15-2016-8252
END:VEVENT

END:VCALENDAR
