BEGIN:VCALENDAR
VERSION:2.0
PRODID:-//ChamberMaster//Event Calendar 2.0//EN
METHOD:PUBLISH
X-PUBLISHED-TTL:P3D
REFRESH-INTERVAL:P3D
CALSCALE:GREGORIAN
BEGIN:VEVENT
DTSTART:20150904T213000Z
DTEND:20150905T013000Z
X-MICROSOFT-CDO-ALLDAYEVENT:FALSE
SUMMARY:First Friday Opening Reception
DESCRIPTION:Reception with wine\, food\, live music and great art. The event is free and everyone is welcome.
X-ALT-DESC;FMTTYPE=text/html:Reception with wine\, food\, live music and great art. The event is free and everyone is welcome.
LOCATION:Artists Incorporated Gallery 3365 Morgan Drive Vestavia Hills\, Al. 35216 205-979-8990
UID:e.145.7834
SEQUENCE:3
DTSTAMP:20260422T182239Z
URL:https://business.shelbychamber.org/events/details/first-friday-opening-reception-09-04-2015-7834
END:VEVENT

END:VCALENDAR
