BEGIN:VCALENDAR
VERSION:2.0
PRODID:-//ChamberMaster//Event Calendar 2.0//EN
METHOD:PUBLISH
X-PUBLISHED-TTL:P3D
REFRESH-INTERVAL:P3D
CALSCALE:GREGORIAN
BEGIN:VEVENT
DTSTART:20110624T230000Z
DTEND:20110625T113000Z
X-MICROSOFT-CDO-ALLDAYEVENT:FALSE
SUMMARY:Fishing Tournament to Benefit Girl Scouts
DESCRIPTION:FOR IMMEDIATE RELEASE \n\n \n\nCONTACT:  \n\nGirl Scouts of North-Central Alabama\n\nHilary Perry\, Director of Communications & Advocacy\n\nOFFICE  205/980-4750 x1003\n\nhperry@girlscoutsnca.org\n\n \n\nFishing Tournament to Benefit Girl Scouts\n\n \n\nBIRMINGHAM The second annual Bill Ireland Invitational Fishing Tournament will be held June 24-25 on Lake Alice at Kanawahala Program Center (KPC) located in Chelsea\, AL. Proceeds will benefit the Girl Scouts of North-Central Alabama.\n\n \n\nThe tournament will kick-off Friday\, June 24 with a Captain's Party from 6-8:30 p.m. at KPC.  The dinner includes a silent auction and dinner by the award-winning Alabama Wildlife Federation cooking team\, "The Cajun Connection."\n\n \n\nSilent auction items include a Dell Laptop\, North Carolina vacation at mountain home on the Nantahala River\, Signed photos of Cam Newton\, Michael Ingram and Nick Saban\, a diamond necklace from Levy's Fine Jewelry\, Jewelry from Barton Clay and home items\, restaurant gift cards\, jewelry and more!\n\n \n\nFollowing a 6 a.m. breakfast on Saturday\, June 25\, the tournament will begin with a shotgun start at Lake Alice on KPC and other private\, local lakes.  Lunch will be provided and an awards presentation will follow. Overnight accommodations can be provided.\n\n \n\nSponsorship levels range from $500 to $2500.  Prizes will be awarded for bass weight an all other species including catfish and bream. Fish may be iced or put in live wells\, and fish over 14" much be released back into the lake. All other fish may be taken home. No live bait will be allowed.\n\n \n\nThe fishing tournament started in 2004\, and is now being revived in honor of a wonderful Girl Scout supporter\, Bill Ireland\, Sr.  This year's event is being chaired by Gabe Hulbert.  Other committee members include Tahiera Brown\, Tom Clark\, Phyllis Davis\, Marjorie Davis-Trimm\, April Deal\, Joel Goldstein and Alice Williams.\n\n \n\nCurrent sponsors include Alabama Power\, Barber's Diary and EBSCO.\n\n \n\nFor more information\, please contact Julie Carter at jcarter@girlscoutnsca.org or 800-734-4541 x1030. You may visit www.girlscoutsnca.org/fishing for a sponsorship brochure.\n\n \n\nPhoto: Committee members (Top L-R) Tom Clark\, Alice Williams\, Joel Goldstein\, April Deal (Bottom L-R) Taheria Brown and Marjorie Davis-Trimm.\n\n \n\nAbout The Girl Scouts of North-Central Alabama\n\nGirl Scouts of North-Central Alabama is a United Way community partner and serves more than 14\,000 girls and an additional 5\,000 in special programs across 36 counties\, ages 5-17\, who are developing crucial life skills that help them grow courageous and strong so they can make wise choices in today's world and beyond. For more information\, call 800-734-4541 or log on to www.girlscoutsnca.org.
X-ALT-DESC;FMTTYPE=text/html:<strong><span style="color: black\;">FOR IMMEDIATE RELEASE </span></strong><br />\n&nbsp\;<br />\n<strong><span style="color: black\;">CONTACT:&nbsp\; </span></strong><br />\n<span style="color: black\;">Girl Scouts of North-Central Alabama</span><br />\n<span style="color: black\;">Hilary Perry\, Director of Communications &amp\; Advocacy</span><br />\n<span style="color: black\;">OFFICE&nbsp\; 205/980-4750 x1003</span><br />\n<a href="mailto:hperry@girlscoutsnca.org" title="blocked::mailto:hperry@girlscoutsnca.org">hperry@girlscoutsnca.org</a><br />\n&nbsp\;<br />\n<strong>Fishing Tournament to Benefit Girl Scouts</strong><br />\n&nbsp\;<br />\nBIRMINGHAM&mdash\;The second annual <strong>Bill Ireland Invitational Fishing Tournament</strong> will be held June 24-25 on Lake Alice at Kanawahala Program Center (KPC) located in Chelsea\, AL. Proceeds will benefit the Girl Scouts of North-Central Alabama.<br />\n&nbsp\;<br />\nThe tournament will kick-off Friday\, June 24 with a Captain&rsquo\;s Party from 6-8:30 p.m. at KPC.&nbsp\; The dinner includes a silent auction and dinner by the award-winning Alabama Wildlife Federation cooking team\, &ldquo\;The Cajun Connection.&rdquo\;<br />\n&nbsp\;<br />\nSilent auction items include a Dell Laptop\, North Carolina vacation at mountain home on the Nantahala River\, Signed photos of Cam Newton\, Michael Ingram and Nick Saban\, a diamond necklace from Levy&rsquo\;s Fine Jewelry\, Jewelry from Barton Clay and home items\, restaurant gift cards\, jewelry and more!<br />\n&nbsp\;<br />\nFollowing a 6 a.m. breakfast on Saturday\, June 25\, the tournament will begin with a shotgun start at Lake Alice on KPC and other private\, local lakes.&nbsp\; Lunch will be provided and an awards presentation will follow. Overnight accommodations can be provided.<br />\n&nbsp\;<br />\nSponsorship levels range from $500 to $2500.&nbsp\; Prizes will be awarded for bass weight an all other species including catfish and bream. Fish may be iced or put in live wells\, and fish over 14&rdquo\; much be released back into the lake. All other fish may be taken home. No live bait will be allowed.<br />\n&nbsp\;<br />\nThe fishing tournament started in 2004\, and is now being revived in honor of a wonderful Girl Scout supporter\, Bill Ireland\, Sr.&nbsp\; This year&rsquo\;s event is being chaired by Gabe Hulbert.&nbsp\; Other committee members include Tahiera Brown\, Tom Clark\, Phyllis Davis\, Marjorie Davis-Trimm\, April Deal\, Joel Goldstein and Alice Williams.<br />\n&nbsp\;<br />\nCurrent sponsors include Alabama Power\, Barber&rsquo\;s Diary and EBSCO.<br />\n&nbsp\;<br />\nFor more information\, please contact Julie Carter at <a href="mailto:jcarter@girlscoutnsca.org" title="blocked::mailto:jcarter@girlscoutnsca.org">jcarter@girlscoutnsca.org</a> or 800-734-4541 x1030. You may visit <a href="http://www.girlscoutsnca.org/fishing" title="blocked::http://www.girlscoutsnca.org/fishing">www.girlscoutsnca.org/fishing</a> for a sponsorship brochure.<br />\n&nbsp\;<br />\nPhoto: Committee members (Top L-R) Tom Clark\, Alice Williams\, Joel Goldstein\, April Deal (Bottom L-R) Taheria Brown and Marjorie Davis-Trimm.<br />\n&nbsp\;<br />\n<strong>About The Girl Scouts of North-Central Alabama</strong><br />\nGirl Scouts of North-Central Alabama is a United Way community partner and serves more than 14\,000 girls and an additional 5\,000 in special programs across 36 counties\, ages 5-17\, who are developing crucial life skills that help them grow courageous and strong so they can make wise choices in today&rsquo\;s world and beyond. For more information\, call 800-734-4541 or log on to <a href="http://www.girlscoutsnca.org/" title="blocked::http://www.girlscoutsnca.org/">www.girlscoutsnca.org</a>.
LOCATION:Lake Alice at Kanawahala Program Center (KPC) located in Chelsea\, AL.
UID:e.145.3393
SEQUENCE:3
DTSTAMP:20260426T022156Z
URL:https://business.shelbychamber.org/events/details/fishing-tournament-to-benefit-girl-scouts-06-24-2011-3393
END:VEVENT

END:VCALENDAR
