BEGIN:VCALENDAR
VERSION:2.0
PRODID:-//ChamberMaster//Event Calendar 2.0//EN
METHOD:PUBLISH
X-PUBLISHED-TTL:P3D
REFRESH-INTERVAL:P3D
CALSCALE:GREGORIAN
BEGIN:VEVENT
DTSTART:20110612T200000Z
DTEND:20110612T210000Z
X-MICROSOFT-CDO-ALLDAYEVENT:FALSE
SUMMARY:Flag Day Celebration
DESCRIPTION:The City of Pelham and the Cahaba Valley Elks Lodge will host their annual Flag Day Celebration on Sunday\, June 12 at 3 PM. The program will include the Elks's Flag Ritual that honors our nation's flag and its history along with patriotic music and presentations by local talent and area youth organizations.  Everyone is encouraged to attend this FREE event that honors our nation's flag and all it represents.\n\n \n\nThank you\,\n\nJohn Gaydon\n\nCahaba Valley Elks Lodge\n\ngaydonj@bellsouth.net\n\n1346 3rd Ave Sw\n\nAlabaster\, AL 35007\n\n205-663-6586\n\n205-410-4055
X-ALT-DESC;FMTTYPE=text/html:The City of Pelham and the Cahaba Valley Elks Lodge will&nbsp\;host their annual Flag Day Celebration on Sunday\, June 12 at 3 PM. The program will include the Elks&#39\;s Flag Ritual that honors our nation&#39\;s flag and its history along with patriotic music and presentations by local talent and area youth organizations.&nbsp\; Everyone is encouraged to attend this FREE event that honors our nation&#39\;s flag and all it represents.<br />\n&nbsp\;<br />\nThank you\,<br />\nJohn Gaydon<br />\nCahaba Valley Elks Lodge<br />\ngaydonj@bellsouth.net<br />\n1346 3rd Ave Sw<br />\nAlabaster\, AL 35007<br />\n205-663-6586<br />\n205-410-4055<br />\n
LOCATION:Pelham Civic Center Amphitheater Rd\, Pelham\, AL 35124
UID:e.145.3392
SEQUENCE:3
DTSTAMP:20260426T005351Z
URL:https://business.shelbychamber.org/events/details/flag-day-celebration-06-12-2011-3392
END:VEVENT

END:VCALENDAR
