BEGIN:VCALENDAR
VERSION:2.0
PRODID:-//ChamberMaster//Event Calendar 2.0//EN
METHOD:PUBLISH
X-PUBLISHED-TTL:P3D
REFRESH-INTERVAL:P3D
CALSCALE:GREGORIAN
BEGIN:VEVENT
DTSTART:20130704T150000Z
DTEND:20130704T163000Z
X-MICROSOFT-CDO-ALLDAYEVENT:FALSE
SUMMARY:Flag Making & 4th of July Crafts
DESCRIPTION:Let's celebrate our freedom and those that have given us the opportunity to have that freedom. Will meet at the Campground Pavilion.
X-ALT-DESC;FMTTYPE=text/html:Let&rsquo\;s celebrate our freedom and those that have given us the opportunity to have that freedom. Will meet at the Campground Pavilion.<br />\n<br />\n
LOCATION:Oak Mountain State Park - Campground Pavilion
UID:e.145.4524
SEQUENCE:3
DTSTAMP:20260424T085250Z
URL:https://business.shelbychamber.org/events/details/flag-making-4th-of-july-crafts-07-04-2013-4524
END:VEVENT

END:VCALENDAR
