BEGIN:VCALENDAR
VERSION:2.0
PRODID:-//ChamberMaster//Event Calendar 2.0//EN
METHOD:PUBLISH
X-PUBLISHED-TTL:P3D
REFRESH-INTERVAL:P3D
CALSCALE:GREGORIAN
BEGIN:VEVENT
DTSTART:20130511T130000Z
DTEND:20130511T150000Z
X-MICROSOFT-CDO-ALLDAYEVENT:FALSE
SUMMARY:Flapjack Fundraiser Bennefiting Pelham Library Guild Scholarship Fund
DESCRIPTION:ENJOY A SHORT STACK FOR A TALL CAUSE\n\nFLAPJACK FUNDRAISER\n\nBenefiting Pelham Library Guild Scholarship Fund\n\nSaturday\, May 11\, 2013\, 8:00 - 10:00 am\n\nApplebee's Hwy 119\, Pelham\n\n$5.00 Donation per ticket\n\nTickets available at Pelham Library
X-ALT-DESC;FMTTYPE=text/html:ENJOY A SHORT STACK FOR A TALL CAUSE<br />\nFLAPJACK FUNDRAISER<br />\nBenefiting Pelham Library Guild Scholarship Fund<br />\nSaturday\, May 11\, 2013\, 8:00 - 10:00 am<br />\nApplebee&#39\;s Hwy 119\, Pelham<br />\n$5.00 Donation per ticket<br />\nTickets available at Pelham Library
LOCATION:Applebee's 360 Cahaba Valley Rd (Hwy 119) Pelham\, AL 35124 (205) 982-1022
UID:e.145.4568
SEQUENCE:3
DTSTAMP:20260424T120324Z
URL:https://business.shelbychamber.org/events/details/flapjack-fundraiser-bennefiting-pelham-library-guild-scholarship-fund-05-11-2013-4568
END:VEVENT

END:VCALENDAR
