BEGIN:VCALENDAR
VERSION:2.0
PRODID:-//ChamberMaster//Event Calendar 2.0//EN
METHOD:PUBLISH
X-PUBLISHED-TTL:P3D
REFRESH-INTERVAL:P3D
CALSCALE:GREGORIAN
BEGIN:VEVENT
DTSTART:20140823T140000Z
DTEND:20140823T150000Z
X-MICROSOFT-CDO-ALLDAYEVENT:FALSE
SUMMARY:Foam Rolling 101 - Presented by The FARM
DESCRIPTION:Ever wonder what to do with that oversized pool noodle sitting in the corner of your gym or perhaps stored away under your bed? Dr. Sloan Burdick\, DC\, MS\, CCSP will be reviewing why not to ignore this gym accessory and how to properly use it.
X-ALT-DESC;FMTTYPE=text/html:<div><span style="font-size:12px\;"><span style="font-family:tahoma\;"><span style="color:#0000cd\;">Ever wonder what to do with that oversized pool noodle sitting in the corner of your gym or perhaps stored away under your bed? Dr. Sloan Burdick\, DC\, MS\, CCSP will be reviewing why not to ignore this gym accessory and how to properly use it.&nbsp\;</span></span></span></div>\n
LOCATION:lululemon at The Summit - 214 Summit Blvd #350 Birmingham Alabama 35243
UID:e.145.6165
SEQUENCE:3
DTSTAMP:20260423T120252Z
URL:https://business.shelbychamber.org/events/details/foam-rolling-101-presented-by-the-farm-08-23-2014-6165
END:VEVENT

END:VCALENDAR
