BEGIN:VCALENDAR
VERSION:2.0
PRODID:-//ChamberMaster//Event Calendar 2.0//EN
METHOD:PUBLISH
X-PUBLISHED-TTL:P3D
REFRESH-INTERVAL:P3D
CALSCALE:GREGORIAN
BEGIN:VEVENT
DTSTART;VALUE=DATE:20130405
DTEND;VALUE=DATE:20130501
TRANSP:TRANSPARENT
X-MICROSOFT-CDO-ALLDAYEVENT:TRUE
SUMMARY:Folk Art Exhibit: The Roots of American Music
DESCRIPTION:Selby Couny Arts Council  presents: Folk Art Exhibit - The Roots of American Music\n\nPaintings of Lennie Jones and Bruce Andrews\n\nOpening Reception and Artist Talk: Saturday\, April 6th\, 2-5pm\n\nSCAC Gallery in Columbiana\n\nOpening Reception & Exhibit is free and Open to the Public\n\nExhibit Dates: April 5 - April 30\, 2013\n\n\n\nShelby County Arts Council\n\n104 Mildred Street\n\nColumbiana\, AL 35051\n\n205-669-0044\n\nwww.shelbycountyarts council.com\n\nemail: info@shelbycountyartscouncil.com
X-ALT-DESC;FMTTYPE=text/html:Selby Couny Arts Council &nbsp\;presents: Folk Art Exhibit - The Roots of American Music<br />\nPaintings of Lennie Jones and Bruce Andrews<br />\nOpening Reception and Artist Talk: Saturday\, April 6th\, 2-5pm<br />\nSCAC Gallery in Columbiana<br />\nOpening Reception &amp\; Exhibit is free and Open to the Public<br />\nExhibit Dates: April 5 - April 30\, 2013<br />\n<br />\nShelby County Arts Council<br />\n104 Mildred Street<br />\nColumbiana\, AL 35051<br />\n205-669-0044<br />\nwww.shelbycountyarts council.com<br />\nemail: info@shelbycountyartscouncil.com&nbsp\;
LOCATION:Shelby County Arts Council Gallery Columbiana
UID:e.145.4561
SEQUENCE:3
DTSTAMP:20260424T135124Z
URL:https://business.shelbychamber.org/events/details/folk-art-exhibit-the-roots-of-american-music-04-05-2013-4561
END:VEVENT

END:VCALENDAR
