BEGIN:VCALENDAR
VERSION:2.0
PRODID:-//ChamberMaster//Event Calendar 2.0//EN
METHOD:PUBLISH
X-PUBLISHED-TTL:P3D
REFRESH-INTERVAL:P3D
CALSCALE:GREGORIAN
BEGIN:VEVENT
DTSTART:20160506T213000Z
DTEND:20160506T223000Z
X-MICROSOFT-CDO-ALLDAYEVENT:FALSE
SUMMARY:Food Allergy Awareness Video Viewing
DESCRIPTION:Parents and kids\, learn more about the importance of food allergy awareness with a special viewing of a video on the topic. Featuring music\, games and puppets\, kids will love learning more about food allergies as they sing\, dance and clap along! No registration required.
X-ALT-DESC;FMTTYPE=text/html:<span style="font-family:calibri light\,sans-serif">Parents and kids\, learn more about the importance of food allergy awareness with a special viewing of a video on the topic. Featuring music\, games and puppets\, kids will love learning more about food allergies as they sing\, dance and clap along! No registration required.&nbsp\;</span>
LOCATION:North Shelby Library
UID:e.145.9486
SEQUENCE:3
DTSTAMP:20260422T045041Z
URL:https://business.shelbychamber.org/events/details/food-allergy-awareness-video-viewing-05-06-2016-9486
END:VEVENT

END:VCALENDAR
