BEGIN:VCALENDAR
VERSION:2.0
PRODID:-//ChamberMaster//Event Calendar 2.0//EN
METHOD:PUBLISH
X-PUBLISHED-TTL:P3D
REFRESH-INTERVAL:P3D
CALSCALE:GREGORIAN
BEGIN:VEVENT
DTSTART:20140516T140000Z
DTEND:20140518T220000Z
X-MICROSOFT-CDO-ALLDAYEVENT:FALSE
SUMMARY:Ford Tri-Motor Aircraft Visit at Shelby County Airport
DESCRIPTION:The National Experimental Aircraft Association in conjunction with the local Chapter 825 is bringing to the Shelby County Airport a 1929 Ford Tri-Motor airliner. It is the first airliner used in the US. It is the second time the Tri-Motor has been to Shelby County. Entrance to event and ground viewing of the plane are free. Rides in the plane are available for $75 for adult passenger seat\, $50 for child (17 & under) passenger seat and $125 for the co-pilot seat. Plane can accommodate up to 10 passengers for each flight.\n\n\n\nClick here to open a PDF printable flier Fly the FORD.
X-ALT-DESC;FMTTYPE=text/html:The National Experimental Aircraft Association in conjunction with the local Chapter 825 is bringing to the Shelby County Airport a 1929 Ford Tri-Motor airliner. It is the first airliner used in the US. It is the second time the Tri-Motor has been to Shelby County. Entrance to event and ground viewing of the plane are free. Rides in the plane are available for $75 for adult passenger seat\, $50 for child (17 &amp\; under) passenger seat and $125 for the co-pilot seat. Plane can accommodate up to 10 passengers for each flight.<br />\n<br />\n<a href="http://cloud.chambermaster.com/userfiles/UserFiles/chambers/145/File/Community Events/fly_the_ford.pdf">Click here to open a PDF printable flier Fly the FORD</a>.
LOCATION:Shelby County Airport
UID:e.145.5336
SEQUENCE:3
DTSTAMP:20260423T165615Z
URL:https://business.shelbychamber.org/events/details/ford-tri-motor-aircraft-visit-at-shelby-county-airport-05-16-2014-5336
END:VEVENT

END:VCALENDAR
